BEGIN:VCALENDAR
VERSION:2.0
PRODID:-//Sabre//Sabre VObject 4.5.8//EN
CALSCALE:GREGORIAN
BEGIN:VEVENT
UID:sabre-vobject-bc98fedb-8070-43d3-ab44-e213344a4f72
DTSTAMP:20260422T142923Z
SUMMARY:DAS TRÖSCH reist um die Welt - Angola
DESCRIPTION:Jeden Monat wird an einem anderen Ort Halt gemacht. Immer im Ge
 päck sind: landestypisches Essen und gelebte Traditionen. Ein Fest\, an d
 em alle teilhaben sollten\, die Freude an den verschiedenen Kulturen unser
 er Welt haben.\\n\\nWas in diesem Monat die Gäste erwartet\, wird zeitnah
  unter https://dastroesch.ch/aktuelles bekannt gegeben.\\n\\nDas Projekt w
 ird 2026 unterstützt durch das Kantonale Integrationsprogramm 2024-2027.
LOCATION:DAS TRÖSCH Café\, Hauptstrasse 42\, 8280 Kreuzlingen
DTSTART;TZID=Europe/Zurich:20260814T183000
DTEND;TZID=Europe/Zurich:20260814T230000
ORGANIZER:Begegnungszentrum - DAS TRÖSCH
END:VEVENT
END:VCALENDAR
