BEGIN:VCALENDAR
VERSION:2.0
PRODID:-//Sabre//Sabre VObject 4.5.8//EN
CALSCALE:GREGORIAN
BEGIN:VEVENT
UID:sabre-vobject-82572231-8eeb-4c49-82b8-471c3b97ab2e
DTSTAMP:20260422T142917Z
SUMMARY:Der Teufel trägt Prada 2
DESCRIPTION:Fast zwanzig Jahre nach ihren legendären Auftritten als Mirand
 a\, Andy\, Emily und Nigel kehren Meryl Streep\, Anne Hathaway\, Emily Blu
 nt und Stanley Tucci zu den Fashion-Hotspots von New York City und in die 
 eleganten Büros des Runway Magazins zurück – in der mit Spannung erwar
 teten Fortsetzung des Film-Phänomens von 2006\, das eine ganze Generation
  geprägt hat.\\n\\nCAST &amp\; CREW\\nDirector: David Frankel\\nProducer:
  Wendy Finerman\\nCast: Meryl Streep\, Anne Hathaway\, Emily Blunt\, Justi
 n Theroux\, Stanley Tucci\, Simone Ashley\\n\\nDuration: 119\\nProduktion:
  USA\, 2026\\nDistribution: The Walt Disney Company Switzerland GmbH
LOCATION:Liberty Cinema\, Amriswilerstrasse 106b\, 8570 Weinfelden
DTSTART;TZID=Europe/Zurich:20260429T200000
DTEND;TZID=Europe/Zurich:20260429T200000
ORGANIZER:Liberty Cinema
END:VEVENT
END:VCALENDAR
