BEGIN:VCALENDAR
VERSION:2.0
PRODID:-//Sabre//Sabre VObject 4.5.8//EN
CALSCALE:GREGORIAN
BEGIN:VEVENT
UID:sabre-vobject-8a0cf17e-be9e-4cfa-a1a1-a57365f5e8e4
DTSTAMP:20260422T142923Z
SUMMARY:Der Magier im Kreml
DESCRIPTION:Anfang der 1990er Jahre in Russland: Vadim Baranov\, ein talent
 ierter junger Mann\, schlägt sich durch das postsowjetische Chaos. Zunäc
 hst ist er als Künstler aktiv\, später als Produzent von Reality-TV\, r
 ückt er in die Nähe der Macht und wird zum Berater eines ehrgeizigen KGB
 -Agenten – Wladimir Putin. Schritt für Schritt gestaltet Baranov das po
 litische System mit und verwischt die Linien zwischen Wahrheit und Manipul
 ation. Jahre danach\, längst zurückgezogen und vom Schweigen umgeben\, e
 ntscheidet er sich\, über die verborgenen Seiten des Regimes zu sprechen\
 , das er einst mit aufgebaut hat.\\n\\nCAST &amp\; CREW\\nDirector: Olivie
 r Assayas\\nProducer: Olivier Delbosc\\nCast: Alicia Vikander\, Jude Law\,
  Paul Dano\, Jeffrey Wright\, Tom Sturridge\, Will Keen\\n\\nDuration: 145
 \\nProduktion: USA / UK / France\, 2025\\nDistribution: Pathé Films AG
LOCATION:Liberty Cinema\, Amriswilerstrasse 106b\, 8570 Weinfelden
DTSTART;TZID=Europe/Zurich:20260427T193000
DTEND;TZID=Europe/Zurich:20260427T193000
ORGANIZER:Liberty Cinema
END:VEVENT
END:VCALENDAR
