BEGIN:VCALENDAR
VERSION:2.0
PRODID:-//Sabre//Sabre VObject 4.5.8//EN
CALSCALE:GREGORIAN
BEGIN:VEVENT
UID:sabre-vobject-d03cbcea-febc-4d91-bf57-c742eaadd314
DTSTAMP:20260422T143233Z
SUMMARY:Rolf Schmid - I mag eifach nüma
DESCRIPTION:Wenn Rolf Schmid die Bühne betritt\, bleibt kein Auge trocken 
 – und 2026 wird das letzte Jahr sein\, in dem das Comedy-Urgestein mit s
 einem neuen Programm «I mag eifach nüma!» mit einer grossen Tournee dur
 ch die Schweiz zieht und am Dienstag 10. November im Thurgauerhof Weinfeld
 en gastiert. Nach über drei Jahrzehnten voller Pointen\, Programme und al
 s Publikumsliebling sagt der Bündner Entertainer und Comedian: «Es isch 
 fertig luschtig – zumindest uf dä Bühni.» \nMan versteht ihn gut: 66
  Jahre hat er auf dem Buckel\, 33 Jahre stand er auf der Bühne. Schweizwe
 it bekannt wurde Rolf Schmid in den 1990er-Jahren als Gesicht und Werbebot
 schafter von Rhäzünser Mineralwasser. Es folgten zahlreiche Tourneen sow
 ie Auftritte in beliebten TV-Shows wie Benissimo\, Rondo Mondo\, Arosa Hum
 or Festival oder Giacobbo/Müller. \n«I mag eifach nid!» ist Kult\\nMit
  insgesamt 12 Soloprogrammen brachte er das Publikum immer wieder zum Lach
 en – und kassierte dafür nicht nur unzählige «Standing Ovations»\, d
 ie er gerne mit einem «Setzt euch\, ich bin ja no da» konterte\, sondern
  auch Auszeichnungen wie den renommierten Prix Walo und diverse Comedy-Awa
 rds. Mit seiner legendären Nummer «I mag eifach nid!» erlangte er schli
 esslich Kultstatus. «Es erfüllt mich schon etwas mit Stolz\, dass diese 
 Zeile heute noch über alle Generation weitergegeben wird und auch für Le
 bensfreude steht»\, sagt ein glücklicher Rolf Schmid. \nRolf privat –
  fast so lustig wie auf der Bühne\\nAbseits des Rampenlichts ist Schmid F
 amilienmensch geblieben. Zwischen Auftritten\, Tourneen und Proben hat er 
 es immer geschafft\, für seine Liebsten da zu sein – und das Kochen sei
 ner legendären «Schmid’schen Älplermagronen» nie vernachlässigt. Ob
  als Vater\, Freund oder Gastgeber: Seine Bodenständigkeit ist so unverwe
 chselbar wie sein Humor. «Ich konnte bisher das machen\, was mir Freude b
 ereitet. Dafür bin ich sehr dankbar»\, sagt Rolf Schmid. \nEin lustiges
  Buch als Bestseller\\n2023 veröffentliche Rolf Schmid das Buch «I mag e
 infach nid». Dies ist ein Buch\, das der Comedian Rolf Schmid und sein Te
 xter Hardy Hemmi ursprünglich gar nie wollten. Sie wollten nichts anderes
  als bloss ein paar Anekdoten aus dem fast ganz normalen Leben des gelernt
 en Bäcker-Konditors und späteren Comedians Rolf Schmid notieren und dies
 e biografischen Episoden irgendwann\, irgendwie und irgendwo szenisch auf 
 die Bühne bringen. Über Nacht verselbständigte sich das ganze Projekt u
 nd kam in Fahrt\, wie ein reißender Bündner Bergbach nach einem Gewitter
 . Und dann ging es los: Und das fast ganz normale Leben von Rolf Schmid er
 weist sich im Rückspiegel betrachtet oft als meilenweit weg von jeder Nor
 m. Und vieles\, was aus heutiger Distanz urkomisch\, ja lustig erscheint\,
  war damals oft alles andere als das. Das lustige Buch wird zum Bestseller
 . \nDie letzte Tournee – ein Abschied mit Lachtränen\\nMit seiner Absc
 hiedstournee 2026 erfüllt Rolf Schmid sich und seinem Publikum den letzte
 n grossen Traum: Noch einmal durchs Land ziehen\, noch einmal alles geben\
 , noch einmal die Leute zum Lachen bringen. «Danach freue ich mich\, mehr
  Zeit mit meiner Familie\, in der Natur und fürs Kochen zu haben»\, mein
 t Rolf Schmid. «I mag einfach nüma!» heisst sein Schlusspunkt. Eine unt
 erhaltsame Mischung aus Rückblick\, Vorschau und Chaos. Also Rolf Schmid 
 wie man ihn kennt respektive kannte. Rolf Schmid: «Es ist für mich eine 
 Ehre\, meinem treuen Publikum nochmals richtig die Lachmuskeln zu strapazi
 eren».
LOCATION:Kultur- und Gemeindezentrum Aadorf\, Gemeindeplatz 1\, 8355 Aadorf
DTSTART;TZID=Europe/Zurich:20260924T193000
DTEND;TZID=Europe/Zurich:20260924T193000
ORGANIZER:Ticketcorner
END:VEVENT
END:VCALENDAR
