BEGIN:VCALENDAR
VERSION:2.0
PRODID:-//Sabre//Sabre VObject 4.5.8//EN
CALSCALE:GREGORIAN
BEGIN:VEVENT
UID:sabre-vobject-c8c2d3c0-141a-4aa1-9c3f-2e8cc51327f3
DTSTAMP:20260422T142944Z
SUMMARY:Öffentliche Führung: Was wir bitter nötig haben
DESCRIPTION:Heilkräuter im mittelalterlichen Klosterleben stehen bei diese
 m Rundgang im Mittelpunkt. Die Führung beginnt in der Klosterkirche\, um 
 einheimische Heilkräuter und Kräuter der Mönche kennenzulernen. Was mac
 ht uns heil? Dabei wird auch die ganzheitliche Lebensführung thematisiert
 \, die in der Klosterheilkunde wichtig war.\nBei einem Spaziergang durch d
 en Garten werden saisonale Heil- und Nutzpflanzen sowie deren Produkte ver
 kostet\, die wir heute noch „bitter nötig“ brauchen.
LOCATION:Kartause Ittingen\, 8532 Warth
DTSTART;TZID=Europe/Zurich:20260607T114500
DTEND;TZID=Europe/Zurich:20260607T131500
ORGANIZER:Ittinger Museum
END:VEVENT
END:VCALENDAR
