BEGIN:VCALENDAR
VERSION:2.0
PRODID:-//Sabre//Sabre VObject 4.5.8//EN
CALSCALE:GREGORIAN
BEGIN:VEVENT
UID:sabre-vobject-c951110e-cfb5-41b7-9386-5cbde1204476
DTSTAMP:20260422T142944Z
SUMMARY:Frühling im Seebachtal TG
DESCRIPTION:Fotoabend in einem grossen Naturschutzgebiet. Als Erlebnis\, Er
 holung und fotografische Inspiration.\nZuerst widmen sich die Teilnehmende
 n eine knappe Stunde den Fachwerkbauten in Stammheim.. Der Ort darf zu den
  fotogensten Riegelbaudörfern der Schweiz gezählt werden.\nDanach gehts 
 an den Nussbaumer- und Hüttwilersee im Thurgauer Seebachtal. Der Frühlin
 g hat sich zu dieser Zeit voll entfaltet und die Landschaft empfängt die 
 Teilnehmenden in leuchtenden Farben. Sie erleben die Natur mit Augen und d
 er Kamera. Um Insekten und einige Vögel zu sehen\, bestehen gute Chancen.
  Darum lohnt sich auch\, ein Teleobjektiv mitzutragen. Den Abend verbringe
 n die Teilnehmenden mit Spaziergängen und genug Zeit für die Fotografie.
  Nach Sonnenuntergang kehren sie zurück. Bei voraussehendem Dauerregen wi
 rd der Kurs verschoben.
LOCATION:Seebachtal\, keine spezielle Adresse\, 8537 Nussbaumen TG
DTSTART;TZID=Europe/Zurich:20260506T174500
DTEND;TZID=Europe/Zurich:20260506T211500
ORGANIZER:Christian Oeler
END:VEVENT
END:VCALENDAR
