BEGIN:VCALENDAR
VERSION:2.0
PRODID:-//Sabre//Sabre VObject 4.5.8//EN
CALSCALE:GREGORIAN
BEGIN:VEVENT
UID:sabre-vobject-5804dad0-df13-4372-9171-82246ddab158
DTSTAMP:20260422T143232Z
SUMMARY:Fotoausflug durch Thurgauer Hügellandschaft
DESCRIPTION:Genusvolles Fotoerlebnis. Das Programm besteht aus einer gemüt
 lichen Fahrt übers Land im Thurgauerland mit diversen spontanen Fotostopp
 s. Die Teilnehmenden suchen Sujets aus\, die fotografisch zur aktuellen Li
 cht- und Wettersituation passt. Je nach Stand der Natur kommen sie an blü
 hendem Raps oder Obstbäumen vorbei. Vor Sonnenuntergang stehen die Teilne
 hmenden vor dem Schloss Steckborn und geniessen das abendliche Farbenspiel
  auf dem Untersee. Bei wirklich schlechtem Wetter besteht die Alternative\
 , den Kurs in eine andere Region zu verlegen.
LOCATION:Kanton Thurgau\, 8500 Frauenfeld
DTSTART;TZID=Europe/Zurich:20260429T130000
DTEND;TZID=Europe/Zurich:20260429T203000
ORGANIZER:Christian Oeler
END:VEVENT
END:VCALENDAR
