BEGIN:VCALENDAR
VERSION:2.0
PRODID:-//Sabre//Sabre VObject 4.5.8//EN
CALSCALE:GREGORIAN
BEGIN:VEVENT
UID:sabre-vobject-05f039a2-8c70-49d2-8a73-e0c0e5e4c3ba
DTSTAMP:20260422T143107Z
SUMMARY:Dialog am Mittagstisch
DESCRIPTION:Bauen als Forschung\, mitten am Rand. Dialog mit ALLEN + CRIPPA
  Architektur GmbH.\nBeim Mittagstisch geben ALLEN &amp\; CRIPPA Einblick i
 n ihre Praxis in der Provinz – wie sie mit dem Vorhandenen arbeiten und 
 wie daraus Impulse weit über die Region hinaus entstehen.\nJeden ersten S
 amstag im Monat von 11 bis 13 Uhr.
LOCATION:Freisitz in Tägerschen\, Münchwilerstrasse 4\, 9555 Tobel-Täger
 schen
DTSTART;TZID=Europe/Zurich:20260502T110000
DTEND;TZID=Europe/Zurich:20260502T130000
ORGANIZER:Werkhaus Freisitz
END:VEVENT
END:VCALENDAR
