BEGIN:VCALENDAR
VERSION:2.0
PRODID:-//Sabre//Sabre VObject 4.5.8//EN
CALSCALE:GREGORIAN
BEGIN:VEVENT
UID:sabre-vobject-6c30f1ad-195e-44ae-aa2e-c89d5f493eda
DTSTAMP:20260422T142945Z
SUMMARY:MEISTERhaftes Werken mit Willi
DESCRIPTION:MEISTERhaftes Werken mit WILLI. Die Werk-Atelierreihe mit Frau 
 Meister und Frau Willi.\nGeschenkpapier drucken\\nDie Teilnehmenden drucke
 n ihr eigenes Geschenkpapier mit Stempeln und Druckformen. Mit Holzstempel
 n\, selbstgebauten Druckelementen und Farbe gestalten sie Muster und Fläc
 hen. So entstehen Papiere für Geburtstage\, Feste oder besondere Anlässe
  – persönlich und nachhaltig.
LOCATION:Stadtkaserne Frauenfeld\, Bahnhofplatz 78\, 8500 Frauenfeld
DTSTART;TZID=Europe/Zurich:20260506T180000
DTEND;TZID=Europe/Zurich:20260506T210000
ORGANIZER:OFFCUT Frauenfeld
END:VEVENT
END:VCALENDAR
