BEGIN:VCALENDAR
VERSION:2.0
PRODID:-//Sabre//Sabre VObject 4.5.8//EN
CALSCALE:GREGORIAN
BEGIN:VEVENT
UID:sabre-vobject-ff94becb-e9f9-456b-97c3-568691fc3f73
DTSTAMP:20260422T142944Z
SUMMARY:Marko Dinic - Buch der Gesichter
DESCRIPTION:Niemand kennt die traurige Geschichte der Jüdinnen und Juden i
 n Serbien so gut wie Marko Dinic. Der Wiener Autor nimmt das Publikum mit 
 in einen epochalen\, episodenhaften Roman\, an dessen Ende die Fäden sich
  zu einem erstaunlichen Ganzen zusammenfügen.
LOCATION:saxbooks\, Zürcherstrasse 183\, 8500 Frauenfeld
DTSTART;TZID=Europe/Zurich:20260530T180000
DTEND;TZID=Europe/Zurich:20260530T190000
ORGANIZER:Lesefeld - Lesungen in und um Frauenfeld
END:VEVENT
END:VCALENDAR
