BEGIN:VCALENDAR
VERSION:2.0
PRODID:-//Sabre//Sabre VObject 4.5.8//EN
CALSCALE:GREGORIAN
BEGIN:VEVENT
UID:sabre-vobject-cef75ce4-a55b-4f7b-9359-3375300785cd
DTSTAMP:20260422T143223Z
SUMMARY:Saxboooks-Sleepover mit Eva Roth
DESCRIPTION:Saxbooks lädt ein zur literarischen Übernachtungsparty. Um 21
 :00 Uhr trifft sich das Publikum zu einer Gutenachtgeschichte mit der Auto
 rin Eva Roth - Sie liest aus dem Buch "Ferien im Haus am Fluss".\nWer mag 
 und Mätteli und Schlafsack mitbringt\, darf zwischen den Romanen\, Bilder
 büchern und Bildbänden übernachten. 
LOCATION:saxbooks\, Zürcherstrasse 183\, 8500 Frauenfeld
DTSTART;TZID=Europe/Zurich:20260530T210000
DTEND;TZID=Europe/Zurich:20260530T220000
ORGANIZER:Lesefeld - Lesungen in und um Frauenfeld
END:VEVENT
END:VCALENDAR
