BEGIN:VCALENDAR
VERSION:2.0
PRODID:-//Sabre//Sabre VObject 4.5.8//EN
CALSCALE:GREGORIAN
BEGIN:VEVENT
UID:sabre-vobject-8baabde1-9f46-428a-ae19-9d9896e204d9
DTSTAMP:20260422T143114Z
SUMMARY:Catalin Dorian Florescu - Matei entdeckt die Freiheit
DESCRIPTION:Matei sitzt in einem Bus\, als er plötzlich das Antlitz seines
  Peinigers aus dem Arbeitslager in Bukarest erblickt. Seit den 30ern ist e
 iniges passiert und der Protagonist konnte sich langsam ein Leben in Freih
 eit aufbauen - doch wann ist man wirklich frei von der eigenen Vergangenhe
 it\, von der Geschichte und vom Streben nach Glück? Catalin Dorian Flores
 cu erschafft ein Zeitdokument\, das berührt.
LOCATION:Theaterwerkstatt Gleis 5\, Lindenstrasse 26a\, 8500 Frauenfeld
DTSTART;TZID=Europe/Zurich:20260530T193000
DTEND;TZID=Europe/Zurich:20260530T204500
ORGANIZER:Lesefeld - Lesungen in und um Frauenfeld
END:VEVENT
END:VCALENDAR
