BEGIN:VCALENDAR
VERSION:2.0
PRODID:-//Sabre//Sabre VObject 4.5.8//EN
CALSCALE:GREGORIAN
BEGIN:VEVENT
UID:sabre-vobject-23910276-05a5-437b-ad26-fec70e40f6f5
DTSTAMP:20260422T143222Z
SUMMARY:Seraina Kobler - Tal der Schwalben
DESCRIPTION:In naher Zukunft ist die Schweiz zu einer pulsierenden Metropol
 e zusammengewachsen. Die Alpen sind Sperrzone\, die Gletscher verschwinden
  und Alesch\, ein junger Wissenschaftler\, ist hin- und hergerissen zwisch
 en Rückzug und Revolution.
LOCATION:Kantonsbibliothek Thurgau\, Promenadenstrasse 12\, 8500 Frauenfeld
DTSTART;TZID=Europe/Zurich:20260530T140000
DTEND;TZID=Europe/Zurich:20260530T150000
ORGANIZER:Lesefeld - Lesungen in und um Frauenfeld
END:VEVENT
END:VCALENDAR
