BEGIN:VCALENDAR
VERSION:2.0
PRODID:-//Sabre//Sabre VObject 4.5.8//EN
CALSCALE:GREGORIAN
BEGIN:VEVENT
UID:sabre-vobject-11a8aa2e-e8e8-4cc2-bdaf-3db87be26944
DTSTAMP:20260422T143012Z
SUMMARY:Iryna Fingerova - Zugwind
DESCRIPTION:Iryna Fingerova\, geboren und aufgewachsen in Odesa\, hat mit Z
 ugwind ihren ersten Roman auf Deutsch verfasst. Darin erzählt sie authent
 isch und eingängig von einer ukrainischen Hausärztin\, deren Praxis wäh
 rend des Kriegsausbruchs zunehmend zur Anlaufstelle für diejenigen wird\,
  die Halt in unsicheren Zeiten suchen.
LOCATION:Kantonsbibliothek Thurgau\, Promenadenstrasse 12\, 8500 Frauenfeld
DTSTART;TZID=Europe/Zurich:20260530T160000
DTEND;TZID=Europe/Zurich:20260530T170000
ORGANIZER:Lesefeld - Lesungen in und um Frauenfeld
END:VEVENT
END:VCALENDAR
