BEGIN:VCALENDAR
VERSION:2.0
PRODID:-//Sabre//Sabre VObject 4.5.8//EN
CALSCALE:GREGORIAN
BEGIN:VEVENT
UID:sabre-vobject-bbc3e5a2-b571-4c3c-9556-7908c1292a37
DTSTAMP:20260422T142754Z
SUMMARY:Verena Kessler - Gym
DESCRIPTION:Eine Frau bewirbt sich bei einem Fitnesszentrum und muss schnel
 l erkennen\, dass der eigene Körper zum Aushängeschild des Arbeitgebers 
 werden soll. Eine kleine Notlüge scheint die perfekte Lösung zu sein\, s
 tellt aber nach und nach alles auf den Kopf.\nDie Leipziger Autorin Verena
  Kessler führt satirisch und innovativ in die Paläste der Eitelkeit und 
 in die fragilen Körperbilder der Gegenwart ein. 
LOCATION:KAFF Kulturlokal\, Zeughausstrasse 13\, 8500 Frauenfeld
DTSTART;TZID=Europe/Zurich:20260529T213000
DTEND;TZID=Europe/Zurich:20260529T223000
ORGANIZER:Lesefeld - Lesungen in und um Frauenfeld
END:VEVENT
END:VCALENDAR
