BEGIN:VCALENDAR
VERSION:2.0
PRODID:-//Sabre//Sabre VObject 4.5.8//EN
CALSCALE:GREGORIAN
BEGIN:VEVENT
UID:sabre-vobject-5eda780f-e694-412c-a155-8bf9cc8b5182
DTSTAMP:20260422T143115Z
SUMMARY:Raoul Schrott - Sternenhimmel
DESCRIPTION:Raoul Schrott ist der Mann der grossen Zusammenhänge. Nach dem
  Erste Erde Epos hat er sich den Sternenhimmel vorgeknöpft und wird das P
 ublikum mit seinen Erkenntnissen verblüffen und bereichern.
LOCATION:Theaterwerkstatt Gleis 5\, Lindenstrasse 26a\, 8500 Frauenfeld
DTSTART;TZID=Europe/Zurich:20260528T203000
DTEND;TZID=Europe/Zurich:20260528T213000
ORGANIZER:Lesefeld - Lesungen in und um Frauenfeld
END:VEVENT
END:VCALENDAR
