BEGIN:VCALENDAR
VERSION:2.0
PRODID:-//Sabre//Sabre VObject 4.5.8//EN
CALSCALE:GREGORIAN
BEGIN:VEVENT
UID:sabre-vobject-95beb072-77b8-4607-8c39-757a50141f1a
DTSTAMP:20260422T142946Z
SUMMARY:Krogerus und Tschäppler - Faustregeln
DESCRIPTION:Fragen\, Reden\, Entscheiden\, Erkennen\, Machen… mit ihren b
 unten Büchern\, die gut in der Hand liegen und wichtige Erkenntnisse aus 
 den Wissenschaften mit Hilfe von Tabellen und Zeichnungen auf ihre Essenz 
 eindampfen\, schrieben Mikael Krogerus und Roman Tschäppeler Sachbuchgesc
 hichte. Am Bücherfest werden sie ihre Kunst an der Schiefertafel vorführ
 en.
LOCATION:Theaterwerkstatt Gleis 5\, Lindenstrasse 26a\, 8500 Frauenfeld
DTSTART;TZID=Europe/Zurich:20260528T183000
DTEND;TZID=Europe/Zurich:20260528T193000
ORGANIZER:Lesefeld - Lesungen in und um Frauenfeld
END:VEVENT
END:VCALENDAR
