BEGIN:VCALENDAR
VERSION:2.0
PRODID:-//Sabre//Sabre VObject 4.5.8//EN
CALSCALE:GREGORIAN
BEGIN:VEVENT
UID:sabre-vobject-2323f27b-c3cf-4b6f-aa35-52c6a8b86a83
DTSTAMP:20260423T065041Z
SUMMARY:Offenes Singen mit Organist Haubrich
DESCRIPTION:Die beliebte Singstunde mit Thomas Haubrich am Harmonium findet
  statt. Der ausgezeichnete Amriswiler Musiker und Organist Thomas Haubrich
  und die Dozwiler Chorsängerin Edith Tanner vom Chor Cappella Vocale sing
 en eine Stunde zusammen mit Singfreudigen. Für gute Stimmung ist gesorgt.
  Alle Liedertexte werden abgegeben. Es sind keine Vorkenntnisse erforderli
 ch. Haubrich spielt auf einem Harmonium aus den 1920er Jahren.\nFür trock
 ene Kehlen ist das Museumskafi geöffnet. 
LOCATION:Schulmuseum Thurgau\, Weinfelderstrasse 127\, 8580 Amriswil
DTSTART;TZID=Europe/Zurich:20260429T140000
DTEND;TZID=Europe/Zurich:20260429T150000
ORGANIZER:Schulmuseum Thurgau Amriswil
END:VEVENT
END:VCALENDAR
