BEGIN:VCALENDAR
VERSION:2.0
PRODID:-//Sabre//Sabre VObject 4.5.8//EN
CALSCALE:GREGORIAN
BEGIN:VEVENT
UID:sabre-vobject-5500a1be-cdaa-40f8-99f2-9b6115392431
DTSTAMP:20260424T020401Z
SUMMARY:Flora 2027
DESCRIPTION:Garten-Ausstellung des Fachverbands Jardin Suisse.\\n• Showg
 ärten auf dem Marktplatz\\n• Planzen-Markt\\n• Regionalausscheidung d
 er Gärtner-Lernenden\\n• Rahmenprogramm mit Vorträgen\, Workshops\, F
 ührungen\, etc.
LOCATION:Marktplatz Weinfelden\, Marktplatz 5\, 8570 Weinfelden
DTSTART;TZID=Europe/Zurich:20270420T000000
DTEND;TZID=Europe/Zurich:20270420T000000
ORGANIZER:Stadt  Weinfelden
END:VEVENT
END:VCALENDAR
