BEGIN:VCALENDAR
VERSION:2.0
PRODID:-//Sabre//Sabre VObject 4.5.8//EN
CALSCALE:GREGORIAN
BEGIN:VEVENT
UID:sabre-vobject-6a2cbf11-d647-43eb-9fc4-3b696eb64e7c
DTSTAMP:20260424T131442Z
SUMMARY:Auffahrtskonzert im Biergarten
DESCRIPTION:Katy O. ist schon fast Stammgast in der Barfuss Brauerei. Diese
 s Jahr versüsst sie allen Deheimgebliebenen die Auffahrt mit ihren harmon
 ischen Klängen. Dazu wird der Grill angeworfen\, es gibt Stoutwürste\, G
 rillkäse und natürlich auch Bratwurst und Cervelat.\nKonzert ab 18:00 Uh
 r.
LOCATION:Barfuss Brauerei\, Industriestrasse 13\, 8575 Bürglen TG
DTSTART;TZID=Europe/Zurich:20260514T160000
DTEND;TZID=Europe/Zurich:20260514T220000
ORGANIZER:Barfuss Brauerei GmbH
END:VEVENT
END:VCALENDAR
